BEGIN:VCALENDAR
VERSION:2.0
PRODID:-//AudioTheme 2.3.8
BEGIN:VEVENT
UID:urn:uuid:784bc89e-24e6-4930-91f5-d765154b99b5
URL:https://mitchmcvicker.com/concerts/gig-5233/
DTSTART;TZID=GMT:20250302T230000
SUMMARY:Trinity Presbyterian Church
LOCATION:Trinity Presbyterian Church\, 4365 State Road 776\, Venice\, FL
END:VEVENT
END:VCALENDAR
