BEGIN:VCALENDAR
VERSION:2.0
PRODID:-//AudioTheme 2.3.8
BEGIN:VEVENT
UID:urn:uuid:b0fe2c9c-f7bb-4b32-aa3d-7ce93e9a75b2
URL:https://mitchmcvicker.com/concerts/gig-5225/
DTSTART;TZID=GMT:20250220T000000
SUMMARY:Calvary Chapel Clarksville
LOCATION:Calvary Chapel Clarksville\, 221 Dunbar Cave Rd\, Clarksville\, TN
END:VEVENT
END:VCALENDAR
