BEGIN:VCALENDAR
VERSION:2.0
PRODID:-//AudioTheme 2.3.8
BEGIN:VEVENT
UID:urn:uuid:60b09bce-cd44-402a-a167-dc8e6f5dae0a
URL:https://mitchmcvicker.com/concerts/gig-522/
DTSTART;TZID=GMT:20181115T010000
SUMMARY:Faith United Methodist Church
LOCATION:Faith United Methodist Church\, 6060 Teasley Lane\, Denton\, TX
END:VEVENT
END:VCALENDAR
