BEGIN:VCALENDAR
VERSION:2.0
PRODID:-//AudioTheme 2.3.8
BEGIN:VEVENT
UID:urn:uuid:3af04c50-a1a9-4fbc-8ac1-a26a3db57b1a
URL:https://mitchmcvicker.com/concerts/gig-5205/
DTSTART;TZID=GMT:20241113T010000
SUMMARY:Bethany Lutheran Church
LOCATION:Bethany Lutheran Church\, 24096 1st Ave\, Siren\, WI
END:VEVENT
END:VCALENDAR
