BEGIN:VCALENDAR
VERSION:2.0
PRODID:-//AudioTheme 2.3.8
BEGIN:VEVENT
UID:urn:uuid:f9d214b6-30c1-4191-bdc6-1acacf8b185d
URL:https://mitchmcvicker.com/concerts/gig-5203/
DTSTART;VALUE=DATE:20241024
SUMMARY:Private Event
LOCATION:Private Event\, Onalaska\, TX
END:VEVENT
END:VCALENDAR
