BEGIN:VCALENDAR
VERSION:2.0
PRODID:-//AudioTheme 2.3.8
BEGIN:VEVENT
UID:urn:uuid:ec9990a3-ab5c-4e85-810f-097b5a29acb6
URL:https://mitchmcvicker.com/concerts/gig-520/
DTSTART;TZID=GMT:20181113T010000
SUMMARY:Mr. Moore's Mitchell McVicker Concert & More
LOCATION:Mr. Moore's Mitchell McVicker Concert & More\, 3112 Legend Dr.\, McKinney\, TX
END:VEVENT
END:VCALENDAR
