BEGIN:VCALENDAR
VERSION:2.0
PRODID:-//AudioTheme 2.3.8
BEGIN:VEVENT
UID:urn:uuid:bc09e59d-a57c-4571-9da4-a430267e0442
URL:https://mitchmcvicker.com/concerts/gig-5198/
DTSTART;TZID=GMT:20241110T160000
SUMMARY:North Bay Church
LOCATION:North Bay Church\, 1316 East 5th Street\, Superior\, WI
END:VEVENT
END:VCALENDAR
