BEGIN:VCALENDAR
VERSION:2.0
PRODID:-//AudioTheme 2.3.8
BEGIN:VEVENT
UID:urn:uuid:0b6539a1-f395-43fe-a213-eeadf346411e
URL:https://mitchmcvicker.com/concerts/gig-5190/
DTSTART;TZID=GMT:20241020T210000
SUMMARY:North Iowa Area Community College - Performing Arts Center
LOCATION:North Iowa Area Community College - Performing Arts Center\, 500 College Drive\, Mason City\, IA
END:VEVENT
END:VCALENDAR
