BEGIN:VCALENDAR
VERSION:2.0
PRODID:-//AudioTheme 2.3.8
BEGIN:VEVENT
UID:urn:uuid:f29f1b1a-05ce-4e62-b69f-f1611b4fb505
URL:https://mitchmcvicker.com/concerts/gig-5180/
DTSTART;TZID=GMT:20241107T000000
SUMMARY:Sharon Church
LOCATION:Sharon Church\, 19980 Pleasant Lake Rd\, Manchester\, MI
END:VEVENT
END:VCALENDAR
