BEGIN:VCALENDAR
VERSION:2.0
PRODID:-//AudioTheme 2.3.8
BEGIN:VEVENT
UID:urn:uuid:9ecf991f-48c9-46bd-92e2-71d4aa1633df
URL:https://mitchmcvicker.com/concerts/gig-518/
DTSTART;TZID=GMT:20181111T010000
SUMMARY:St. Patrick Catholic Church
LOCATION:St. Patrick Catholic Church\, 314 N. Rusk Ave.\, Denison\, TX
END:VEVENT
END:VCALENDAR
