BEGIN:VCALENDAR
VERSION:2.0
PRODID:-//AudioTheme 2.3.8
BEGIN:VEVENT
UID:urn:uuid:b508cc5e-d175-4882-94d0-1ab7f450c13c
URL:https://mitchmcvicker.com/concerts/gig-5178/
DTSTART;TZID=GMT:20240817T000000
SUMMARY:Church on the Rock
LOCATION:Church on the Rock\, 1401 North High St\, Fort Atkinson\, WI
END:VEVENT
END:VCALENDAR
