BEGIN:VCALENDAR
VERSION:2.0
PRODID:-//AudioTheme 2.3.8
BEGIN:VEVENT
UID:urn:uuid:981bf3cb-afc8-4b25-b50d-1f221f94020c
URL:https://mitchmcvicker.com/concerts/gig-5172/
DTSTART;TZID=GMT:20240628T220000
SUMMARY:Music on Main
LOCATION:Music on Main\, Foundation Plaza on Main Street\, Ashland\, OH
END:VEVENT
END:VCALENDAR
