BEGIN:VCALENDAR
VERSION:2.0
PRODID:-//AudioTheme 2.3.8
BEGIN:VEVENT
UID:urn:uuid:6131cb5e-4b31-4b3f-9167-b84ebf9f5836
URL:https://mitchmcvicker.com/concerts/gig-5170/
DTSTART;TZID=GMT:20240920T010000
SUMMARY:Dude DeWalt Cellars
LOCATION:Dude DeWalt Cellars\, 5446 Highway 16\, Eagle\, ID
END:VEVENT
END:VCALENDAR
