BEGIN:VCALENDAR
VERSION:2.0
PRODID:-//AudioTheme 2.3.8
BEGIN:VEVENT
UID:urn:uuid:c305fe31-45b9-42cd-9f4a-50b2b5b27ecb
URL:https://mitchmcvicker.com/concerts/gig-5168/
DTSTART;TZID=GMT:20241020T000000
SUMMARY:Heritage Methodist Church
LOCATION:Heritage Methodist Church\, 1201 230th St\, Waverly\, IA
END:VEVENT
END:VCALENDAR
