BEGIN:VCALENDAR
VERSION:2.0
PRODID:-//AudioTheme 2.3.8
BEGIN:VEVENT
UID:urn:uuid:913e22de-ae09-4aa9-8fac-ce19fe2e7264
URL:https://mitchmcvicker.com/concerts/gig-5163/
DTSTART;VALUE=DATE:20240913
SUMMARY:Edgemont, SD - private event
LOCATION:Edgemont\, SD - private event\, Edgemont\, SD
END:VEVENT
END:VCALENDAR
