BEGIN:VCALENDAR
VERSION:2.0
PRODID:-//AudioTheme 2.3.8
BEGIN:VEVENT
UID:urn:uuid:01ec296c-1bd1-419e-930e-51534b769f67
URL:https://mitchmcvicker.com/concerts/gig-5160/
DTSTART;TZID=GMT:20241106T010000
SUMMARY:St. Mark's Episcopal Church
LOCATION:St. Mark's Episcopal Church\, 700 E Mill St\, Beaver Dam\, WI
END:VEVENT
END:VCALENDAR
