BEGIN:VCALENDAR
VERSION:2.0
PRODID:-//AudioTheme 2.3.8
BEGIN:VEVENT
UID:urn:uuid:2cd87012-e33b-4104-a75b-e3585552a5a8
URL:https://mitchmcvicker.com/concerts/gig-516/
DTSTART;TZID=GMT:20181110T013000
SUMMARY:Alta Church of Christ
LOCATION:Alta Church of Christ\, 505 W. Highway 7\, Alta\, IA
END:VEVENT
END:VCALENDAR
