BEGIN:VCALENDAR
VERSION:2.0
PRODID:-//AudioTheme 2.3.8
BEGIN:VEVENT
UID:urn:uuid:f31a523f-ca30-4a56-a1d6-3dd860c9464f
URL:https://mitchmcvicker.com/concerts/gig-5156/
DTSTART;TZID=GMT:20241110T003000
SUMMARY:Denfield High School Auditorium
LOCATION:Denfield High School Auditorium\, 401 N. 44th Ave. W\, Duluth\, MN
END:VEVENT
END:VCALENDAR
