BEGIN:VCALENDAR
VERSION:2.0
PRODID:-//AudioTheme 2.3.8
BEGIN:VEVENT
UID:urn:uuid:713e39f1-37a6-45a7-a317-79744ad80928
URL:https://mitchmcvicker.com/concerts/gig-5152/
DTSTART;TZID=GMT:20240912T233000
SUMMARY:Hope Community Church
LOCATION:Hope Community Church\, 1831 E 21st St\, Andover\, KS
END:VEVENT
END:VCALENDAR
