BEGIN:VCALENDAR
VERSION:2.0
PRODID:-//AudioTheme 2.3.8
BEGIN:VEVENT
UID:urn:uuid:7b475852-d89e-4991-8f00-c5edfe01b7e1
URL:https://mitchmcvicker.com/concerts/gig-5149/
DTSTART;TZID=GMT:20241013T230000
SUMMARY:St. Martin of Tours Church
LOCATION:St. Martin of Tours Church\, 1140 Abbott Rd.\, Buffalo\, NY
END:VEVENT
END:VCALENDAR
