BEGIN:VCALENDAR
VERSION:2.0
PRODID:-//AudioTheme 2.3.8
BEGIN:VEVENT
UID:urn:uuid:57dcdc18-6570-4b7d-854d-5186da040890
URL:https://mitchmcvicker.com/concerts/gig-5144/
DTSTART;TZID=GMT:20240905T000000
SUMMARY:First Free Methodist Church
LOCATION:First Free Methodist Church\, 3450 SE Indiana Ave\, Topeka\, KS
END:VEVENT
END:VCALENDAR
