BEGIN:VCALENDAR
VERSION:2.0
PRODID:-//AudioTheme 2.3.8
BEGIN:VEVENT
UID:urn:uuid:4b89a088-7b5c-4dfa-b08e-59584742f867
URL:https://mitchmcvicker.com/concerts/gig-5141/
DTSTART;TZID=GMT:20240823T010000
SUMMARY:Behind the Curtain
LOCATION:Behind the Curtain\, Call for More Info\, Aurora\, CO
END:VEVENT
END:VCALENDAR
