BEGIN:VCALENDAR
VERSION:2.0
PRODID:-//AudioTheme 2.3.8
BEGIN:VEVENT
UID:urn:uuid:0afcc4c2-1b70-4d2a-a226-9fc3f088ba67
URL:https://mitchmcvicker.com/concerts/gig-514/
DTSTART;TZID=GMT:20181027T013000
SUMMARY:Vineyard Community Church
LOCATION:Vineyard Community Church\, 2711 Unaweep Ave.\, Grand Junction\, CO
END:VEVENT
END:VCALENDAR
