BEGIN:VCALENDAR
VERSION:2.0
PRODID:-//AudioTheme 2.3.8
BEGIN:VEVENT
UID:urn:uuid:cedc5056-ba31-41b6-a17a-0d99327dd416
URL:https://mitchmcvicker.com/concerts/gig-5138/
DTSTART;TZID=GMT:20240908T230000
SUMMARY:Faith United Methodist Church
LOCATION:Faith United Methodist Church\, 6060 Teasley Lane\, Denton\, TX
END:VEVENT
END:VCALENDAR
