BEGIN:VCALENDAR
VERSION:2.0
PRODID:-//AudioTheme 2.3.8
BEGIN:VEVENT
UID:urn:uuid:e42a3038-aa87-4ea5-81c1-7890035132dc
URL:https://mitchmcvicker.com/concerts/gig-5136/
DTSTART;TZID=GMT:20240907T000000
SUMMARY:Grace Lutheran Church
LOCATION:Grace Lutheran Church\, 2411 Woodlake Road\, Denison\, TX
END:VEVENT
END:VCALENDAR
