BEGIN:VCALENDAR
VERSION:2.0
PRODID:-//AudioTheme 2.3.8
BEGIN:VEVENT
UID:urn:uuid:44ddacfc-1f45-4495-bf34-ebebd172ee1e
URL:https://mitchmcvicker.com/concerts/gig-5134/
DTSTART;TZID=GMT:20240825T210000
SUMMARY:Christ First Community Church
LOCATION:Christ First Community Church\, 801 Main Street\, Canon City\, CO
END:VEVENT
END:VCALENDAR
