BEGIN:VCALENDAR
VERSION:2.0
PRODID:-//AudioTheme 2.3.8
BEGIN:VEVENT
UID:urn:uuid:c7ab2311-fa19-4d8c-aa81-adbe249e289a
URL:https://mitchmcvicker.com/concerts/gig-5132/
DTSTART;TZID=GMT:20240825T010000
SUMMARY:Highlands Ranch Block Party Concert
LOCATION:Highlands Ranch Block Party Concert\, 10076 Cairns Ct.\, Highlands Ranch\, CO
END:VEVENT
END:VCALENDAR
