BEGIN:VCALENDAR
VERSION:2.0
PRODID:-//AudioTheme 2.3.8
BEGIN:VEVENT
UID:urn:uuid:37217a9e-8c7c-4d9b-afaf-c1c6b623b58a
URL:https://mitchmcvicker.com/concerts/gig-5130/
DTSTART;TZID=GMT:20241108T010000
SUMMARY:Countryside Church
LOCATION:Countryside Church\, 301 Green St\, Merrillan\, WI
END:VEVENT
END:VCALENDAR
