BEGIN:VCALENDAR
VERSION:2.0
PRODID:-//AudioTheme 2.3.8
BEGIN:VEVENT
UID:urn:uuid:abf9f9dc-233d-469e-8f31-f94354dc8e11
URL:https://mitchmcvicker.com/concerts/gig-5103/
DTSTART;TZID=GMT:20240810T230000
SUMMARY:Woodruff Place Baptist Church - Benefit for Urban Hope Indy
LOCATION:Woodruff Place Baptist Church - Benefit for Urban Hope Indy\, 1739 E Michigan St\, Indianapolis\, IN
END:VEVENT
END:VCALENDAR
