BEGIN:VCALENDAR
VERSION:2.0
PRODID:-//AudioTheme 2.3.8
BEGIN:VEVENT
UID:urn:uuid:dc7f25fd-0db6-4d65-acc5-414d2f6f47b7
URL:https://mitchmcvicker.com/concerts/gig-5102/
DTSTART;TZID=GMT:20241109T010000
SUMMARY:Heart of the City Music Factory
LOCATION:Heart of the City Music Factory\, 2665 4th Ave.\, Anoka\, MN
END:VEVENT
END:VCALENDAR
