BEGIN:VCALENDAR
VERSION:2.0
PRODID:-//AudioTheme 2.3.8
BEGIN:VEVENT
UID:urn:uuid:0ca7fd94-c6fb-4ebf-81f8-49acddfbed56
URL:https://mitchmcvicker.com/concerts/gig-5100/
DTSTART;TZID=GMT:20241019T000000
SUMMARY:Otter Creek Christian Fellowship
LOCATION:Otter Creek Christian Fellowship\, N10091 County Rd S\, Wheeler\, WI
END:VEVENT
END:VCALENDAR
