BEGIN:VCALENDAR
VERSION:2.0
PRODID:-//AudioTheme 2.3.8
BEGIN:VEVENT
UID:urn:uuid:9dd8c68c-46e0-4527-bb1d-0c124c91fcb8
URL:https://mitchmcvicker.com/concerts/gig-510/
DTSTART;TZID=GMT:20181011T000000
SUMMARY:Sanctuary Church
LOCATION:Sanctuary Church\, 912 18th Ave. SW\, Cedar Rapids\, IA
END:VEVENT
END:VCALENDAR
