BEGIN:VCALENDAR
VERSION:2.0
PRODID:-//AudioTheme 2.3.8
BEGIN:VEVENT
UID:urn:uuid:a38a3955-6613-4a62-a1b5-3a56430212b0
URL:https://mitchmcvicker.com/concerts/gig-5099/
DTSTART;TZID=GMT:20241017T233000
SUMMARY:Trinity Lutheran Church
LOCATION:Trinity Lutheran Church\, 1410 Rogers St\, Stevens Point\, WI\, USA\, 54481
END:VEVENT
END:VCALENDAR
