BEGIN:VCALENDAR
VERSION:2.0
PRODID:-//AudioTheme 2.3.8
BEGIN:VEVENT
UID:urn:uuid:9824fcaa-c4bd-4c77-ac81-e01e639646ba
URL:https://mitchmcvicker.com/concerts/gig-5098/
DTSTART;TZID=GMT:20241017T000000
SUMMARY:Northwest Christian Church
LOCATION:Northwest Christian Church\, 505 West Hwy 7\, Alta\, IA\, United States\, 51002
END:VEVENT
END:VCALENDAR
