BEGIN:VCALENDAR
VERSION:2.0
PRODID:-//AudioTheme 2.3.8
BEGIN:VEVENT
UID:urn:uuid:f944dc21-6f67-4c70-82bc-33fbdc5fda37
URL:https://mitchmcvicker.com/concerts/gig-5097/
DTSTART;TZID=GMT:20241016T000000
SUMMARY:Lifespring Community Church
LOCATION:Lifespring Community Church\, 1615 Thoele Road\, St. Peters\, MO\, USA
END:VEVENT
END:VCALENDAR
