BEGIN:VCALENDAR
VERSION:2.0
PRODID:-//AudioTheme 2.3.8
BEGIN:VEVENT
UID:urn:uuid:d7fb6f8c-2257-41bf-9fe2-8bea7689424f
URL:https://mitchmcvicker.com/concerts/gig-5096/
DTSTART;TZID=GMT:20241014T230000
SUMMARY:Stonebridge Community Church
LOCATION:Stonebridge Community Church\, 105 E. Greene St.\, Piqua\, OH
END:VEVENT
END:VCALENDAR
