BEGIN:VCALENDAR
VERSION:2.0
PRODID:-//AudioTheme 2.3.8
BEGIN:VEVENT
UID:urn:uuid:58f8a84e-efb3-412e-a738-21fac7026f46
URL:https://mitchmcvicker.com/concerts/gig-5092/
DTSTART;TZID=GMT:20241012T230000
SUMMARY:Princeton Community Church
LOCATION:Princeton Community Church\, 2300 Pennington Rd\, Pennington\, NJ
END:VEVENT
END:VCALENDAR
