BEGIN:VCALENDAR
VERSION:2.0
PRODID:-//AudioTheme 2.3.8
BEGIN:VEVENT
UID:urn:uuid:a98ef309-cc6a-452e-b069-57299a32ebce
URL:https://mitchmcvicker.com/concerts/gig-5091/
DTSTART;TZID=GMT:20241010T233000
SUMMARY:Union Church
LOCATION:Union Church\, 3 Elm Street\, Vernon\, CT
END:VEVENT
END:VCALENDAR
