BEGIN:VCALENDAR
VERSION:2.0
PRODID:-//AudioTheme 2.3.8
BEGIN:VEVENT
UID:urn:uuid:c08cf5dd-eb9a-461d-bbb8-12a5badf3443
URL:https://mitchmcvicker.com/concerts/gig-5089/
DTSTART;TZID=GMT:20241011T230000
SUMMARY:Seaport Coffeehouse
LOCATION:Seaport Coffeehouse\, Old Exeter Town Hall 9 Front St.\, Exeter\, NH
END:VEVENT
END:VCALENDAR
