BEGIN:VCALENDAR
VERSION:2.0
PRODID:-//AudioTheme 2.3.8
BEGIN:VEVENT
UID:urn:uuid:d1130194-99ec-4496-96a2-0c5b11423dff
URL:https://mitchmcvicker.com/concerts/gig-5088/
DTSTART;TZID=GMT:20241009T230000
SUMMARY:Jersey Shore Calvary Chapel
LOCATION:Jersey Shore Calvary Chapel\, 708 McLean Ave\, Point Pleasant Beach\, NJ\, 08742
END:VEVENT
END:VCALENDAR
