BEGIN:VCALENDAR
VERSION:2.0
PRODID:-//AudioTheme 2.3.8
BEGIN:VEVENT
UID:urn:uuid:36dcb777-0b94-4ea8-8dd3-7c01a5b97cba
URL:https://mitchmcvicker.com/concerts/gig-5086/
DTSTART;TZID=GMT:20241006T140000
SUMMARY:Messiah Christian Church
LOCATION:Messiah Christian Church\, 2700 Post Rd\, Wells\, ME
END:VEVENT
END:VCALENDAR
