BEGIN:VCALENDAR
VERSION:2.0
PRODID:-//AudioTheme 2.3.8
BEGIN:VEVENT
UID:urn:uuid:5a2d3edd-d1cd-49c1-a135-b6707fcada9b
URL:https://mitchmcvicker.com/concerts/gig-5085/
DTSTART;TZID=GMT:20241005T193000
SUMMARY:Athens Fairgrounds - Benefit for New Hope Women's Shelter - Open to Public
LOCATION:Athens Fairgrounds - Benefit for New Hope Women's Shelter - Open to Public\, Athens\, ME
END:VEVENT
END:VCALENDAR
