BEGIN:VCALENDAR
VERSION:2.0
PRODID:-//AudioTheme 2.3.8
BEGIN:VEVENT
UID:urn:uuid:0d8387d7-393f-4e95-9eda-561ecf8ead09
URL:https://mitchmcvicker.com/concerts/gig-5084/
DTSTART;TZID=GMT:20241004T230000
SUMMARY:Lilac City Coffee House
LOCATION:Lilac City Coffee House\, 63 Eastern Ave.\, Rochester\, NH
END:VEVENT
END:VCALENDAR
