BEGIN:VCALENDAR
VERSION:2.0
PRODID:-//AudioTheme 2.3.8
BEGIN:VEVENT
UID:urn:uuid:3c84397c-f92e-4eb3-977e-a20993a21838
URL:https://mitchmcvicker.com/concerts/gig-5083/
DTSTART;TZID=GMT:20241003T230000
SUMMARY:POSTPONED
LOCATION:POSTPONED\, POSTPONED Woonsocket\, RI
END:VEVENT
END:VCALENDAR
