BEGIN:VCALENDAR
VERSION:2.0
PRODID:-//AudioTheme 2.3.8
BEGIN:VEVENT
UID:urn:uuid:37c952bd-62c0-49b0-b49d-147a24b75ee7
URL:https://mitchmcvicker.com/concerts/gig-5082/
DTSTART;TZID=GMT:20241002T230000
SUMMARY:Advent Lutheran Church
LOCATION:Advent Lutheran Church\, 45 Worthington Mill Rd\, Richboro\, PA\, USA\, 18954
END:VEVENT
END:VCALENDAR
