BEGIN:VCALENDAR
VERSION:2.0
PRODID:-//AudioTheme 2.3.8
BEGIN:VEVENT
UID:urn:uuid:6e01b813-7935-4093-9980-8c1d0856c607
URL:https://mitchmcvicker.com/concerts/gig-5081/
DTSTART;TZID=GMT:20241001T230000
SUMMARY:Linesville Presbyterian Church
LOCATION:Linesville Presbyterian Church\, 202 W. Erie St.\, Linesville\, PA
END:VEVENT
END:VCALENDAR
