BEGIN:VCALENDAR
VERSION:2.0
PRODID:-//AudioTheme 2.3.8
BEGIN:VEVENT
UID:urn:uuid:d813817e-8ebe-4700-abc4-5320709313cc
URL:https://mitchmcvicker.com/concerts/gig-5079/
DTSTART;TZID=GMT:20240922T020000
SUMMARY:Lake Bible Church
LOCATION:Lake Bible Church\, 4565 Carman Dr\, Lake Oswego\, OR
END:VEVENT
END:VCALENDAR
