BEGIN:VCALENDAR
VERSION:2.0
PRODID:-//AudioTheme 2.3.8
BEGIN:VEVENT
UID:urn:uuid:f72c6388-93df-44ee-8622-6e0ed501db82
URL:https://mitchmcvicker.com/concerts/gig-5077/
DTSTART;TZID=GMT:20240921T020000
SUMMARY:Hermiston First Christian Church
LOCATION:Hermiston First Christian Church\, 775 W Highland Ave\, Hermiston\, OR
END:VEVENT
END:VCALENDAR
