BEGIN:VCALENDAR
VERSION:2.0
PRODID:-//AudioTheme 2.3.8
BEGIN:VEVENT
UID:urn:uuid:530971b3-7bee-450c-9c71-80e69ec8f2b7
URL:https://mitchmcvicker.com/concerts/gig-5075/
DTSTART;TZID=GMT:20240919T010000
SUMMARY:Calvary Chapel Sevier Valley
LOCATION:Calvary Chapel Sevier Valley\, 130 N. Main Street\, Richfield\, UT
END:VEVENT
END:VCALENDAR
