BEGIN:VCALENDAR
VERSION:2.0
PRODID:-//AudioTheme 2.3.8
BEGIN:VEVENT
UID:urn:uuid:90699687-2e29-407a-b8cd-5a795c6f6765
URL:https://mitchmcvicker.com/concerts/gig-5074/
DTSTART;TZID=GMT:20240918T000000
SUMMARY:New Life Church
LOCATION:New Life Church\, 5194 N Hwy 6\, Helper\, UT
END:VEVENT
END:VCALENDAR
